BEGIN:VCALENDAR
VERSION:2.0
PRODID:-//CNS-CSA - ECPv6.9.0//NONSGML v1.0//EN
CALSCALE:GREGORIAN
METHOD:PUBLISH
X-WR-CALNAME:CNS-CSA
X-ORIGINAL-URL:https://cns-csa.org.br
X-WR-CALDESC:Eventos para CNS-CSA
REFRESH-INTERVAL;VALUE=DURATION:PT1H
X-Robots-Tag:noindex
X-PUBLISHED-TTL:PT1H
BEGIN:VTIMEZONE
TZID:America/Sao_Paulo
BEGIN:STANDARD
TZOFFSETFROM:-0300
TZOFFSETTO:-0300
TZNAME:-03
DTSTART:20220101T000000
END:STANDARD
END:VTIMEZONE
BEGIN:VEVENT
DTSTART;VALUE=DATE:20220302
DTEND;VALUE=DATE:20220303
DTSTAMP:20260423T154126
CREATED:20220905T190825Z
LAST-MODIFIED:20220905T191008Z
UID:13135-1646179200-1646265599@cns-csa.org.br
SUMMARY:Nascimento e batismo de Madre Alix Le Clerc
DESCRIPTION:Nascimento e batismo de Madre Alix Le Clerc
URL:https://cns-csa.org.br/evento/nascimento-e-batismo-de-madre-alix-le-clerc/
END:VEVENT
BEGIN:VEVENT
DTSTART;VALUE=DATE:20220109
DTEND;VALUE=DATE:20220110
DTSTAMP:20260423T154126
CREATED:20220905T190746Z
LAST-MODIFIED:20220905T191027Z
UID:13133-1641686400-1641772799@cns-csa.org.br
SUMMARY:Dia de Madre Alix Le Clerc
DESCRIPTION:Dia de Madre Alix Le Clerc
URL:https://cns-csa.org.br/evento/dia-de-madre-alix-le-clerc/
END:VEVENT
END:VCALENDAR