BEGIN:VCALENDAR
VERSION:2.0
PRODID:-//CNS-CSA - ECPv6.9.0//NONSGML v1.0//EN
CALSCALE:GREGORIAN
METHOD:PUBLISH
X-ORIGINAL-URL:https://cns-csa.org.br
X-WR-CALDESC:Eventos para CNS-CSA
REFRESH-INTERVAL;VALUE=DURATION:PT1H
X-Robots-Tag:noindex
X-PUBLISHED-TTL:PT1H
BEGIN:VTIMEZONE
TZID:America/Sao_Paulo
BEGIN:STANDARD
TZOFFSETFROM:-0300
TZOFFSETTO:-0300
TZNAME:-03
DTSTART:20220101T000000
END:STANDARD
END:VTIMEZONE
BEGIN:VEVENT
DTSTART;VALUE=DATE:20231130
DTEND;VALUE=DATE:20231201
DTSTAMP:20260423T140642
CREATED:20230508T185422Z
LAST-MODIFIED:20230508T185422Z
UID:13305-1701302400-1701388799@cns-csa.org.br
SUMMARY:Nascimento de São Pedro Fourier
DESCRIPTION:
URL:https://cns-csa.org.br/evento/nascimento-de-sao-pedro-fourier-2/
END:VEVENT
BEGIN:VEVENT
DTSTART;VALUE=DATE:20230828
DTEND;VALUE=DATE:20230829
DTSTAMP:20260423T140642
CREATED:20230508T185334Z
LAST-MODIFIED:20230508T185334Z
UID:13303-1693180800-1693267199@cns-csa.org.br
SUMMARY:Dia de Santo Agostinho
DESCRIPTION:
URL:https://cns-csa.org.br/evento/dia-de-santo-agostinho-2/
END:VEVENT
BEGIN:VEVENT
DTSTART;VALUE=DATE:20230527
DTEND;VALUE=DATE:20230528
DTSTAMP:20260423T140642
CREATED:20230508T185245Z
LAST-MODIFIED:20230508T185245Z
UID:13301-1685145600-1685231999@cns-csa.org.br
SUMMARY:Canonização de São Pedro Fourier (1897)
DESCRIPTION:
URL:https://cns-csa.org.br/evento/canonizacao-de-sao-pedro-fourier-1897/
END:VEVENT
BEGIN:VEVENT
DTSTART;VALUE=DATE:20221224
DTEND;VALUE=DATE:20221225
DTSTAMP:20260423T140642
CREATED:20220905T191411Z
LAST-MODIFIED:20220905T191411Z
UID:13151-1671840000-1671926399@cns-csa.org.br
SUMMARY:Fundação da Congregação de Nossa Senhora
DESCRIPTION:Fundação da Congregação de Nossa Senhora (1597)
URL:https://cns-csa.org.br/evento/fundacao-da-congregacao-de-nossa-senhora/
END:VEVENT
BEGIN:VEVENT
DTSTART;VALUE=DATE:20221218
DTEND;VALUE=DATE:20221219
DTSTAMP:20260423T140643
CREATED:20220905T191338Z
LAST-MODIFIED:20220905T191338Z
UID:13149-1671321600-1671407999@cns-csa.org.br
SUMMARY:Chegada das primeiras Irmãs ao Brasil
DESCRIPTION:Chegada das primeiras Irmãs ao Brasil (1906)
URL:https://cns-csa.org.br/evento/chegada-das-primeiras-irmas-ao-brasil/
END:VEVENT
BEGIN:VEVENT
DTSTART;VALUE=DATE:20221209
DTEND;VALUE=DATE:20221210
DTSTAMP:20260423T140643
CREATED:20220905T191255Z
LAST-MODIFIED:20220905T191255Z
UID:13147-1670544000-1670630399@cns-csa.org.br
SUMMARY:Dia de São Pedro Fourier
DESCRIPTION:Dia de São Pedro Fourier
URL:https://cns-csa.org.br/evento/dia-de-sao-pedro-fourier/
END:VEVENT
BEGIN:VEVENT
DTSTART;VALUE=DATE:20221130
DTEND;VALUE=DATE:20221201
DTSTAMP:20260423T140643
CREATED:20220905T191220Z
LAST-MODIFIED:20220905T191220Z
UID:13145-1669766400-1669852799@cns-csa.org.br
SUMMARY:Nascimento de São Pedro Fourier
DESCRIPTION:Nascimento de São Pedro Fourier
URL:https://cns-csa.org.br/evento/nascimento-de-sao-pedro-fourier/
END:VEVENT
BEGIN:VEVENT
DTSTART;VALUE=DATE:20220828
DTEND;VALUE=DATE:20220829
DTSTAMP:20260423T140643
CREATED:20220905T191151Z
LAST-MODIFIED:20220905T191151Z
UID:13143-1661644800-1661731199@cns-csa.org.br
SUMMARY:Dia de Santo Agostinho
DESCRIPTION:Dia de Santo Agostinho
URL:https://cns-csa.org.br/evento/dia-de-santo-agostinho/
END:VEVENT
BEGIN:VEVENT
DTSTART;VALUE=DATE:20220527
DTEND;VALUE=DATE:20220528
DTSTAMP:20260423T140643
CREATED:20220905T191109Z
LAST-MODIFIED:20220905T191109Z
UID:13141-1653609600-1653695999@cns-csa.org.br
SUMMARY:Canonização de São Pedro Fourier
DESCRIPTION:Canonização de São Pedro Fourier (1897)
URL:https://cns-csa.org.br/evento/canonizacao-de-sao-pedro-fourier/
END:VEVENT
BEGIN:VEVENT
DTSTART;VALUE=DATE:20220504
DTEND;VALUE=DATE:20220505
DTSTAMP:20260423T140643
CREATED:20220905T190923Z
LAST-MODIFIED:20220905T190923Z
UID:13137-1651622400-1651708799@cns-csa.org.br
SUMMARY:Beatificação de Madre Alix Le Clerc
DESCRIPTION:Beatificação de Madre Alix Le Clerc (1947)
URL:https://cns-csa.org.br/evento/beatificacao-de-madre-alix-le-clerc/
END:VEVENT
BEGIN:VEVENT
DTSTART;VALUE=DATE:20220302
DTEND;VALUE=DATE:20220303
DTSTAMP:20260423T140643
CREATED:20220905T190825Z
LAST-MODIFIED:20220905T191008Z
UID:13135-1646179200-1646265599@cns-csa.org.br
SUMMARY:Nascimento e batismo de Madre Alix Le Clerc
DESCRIPTION:Nascimento e batismo de Madre Alix Le Clerc
URL:https://cns-csa.org.br/evento/nascimento-e-batismo-de-madre-alix-le-clerc/
END:VEVENT
BEGIN:VEVENT
DTSTART;VALUE=DATE:20220109
DTEND;VALUE=DATE:20220110
DTSTAMP:20260423T140643
CREATED:20220905T190746Z
LAST-MODIFIED:20220905T191027Z
UID:13133-1641686400-1641772799@cns-csa.org.br
SUMMARY:Dia de Madre Alix Le Clerc
DESCRIPTION:Dia de Madre Alix Le Clerc
URL:https://cns-csa.org.br/evento/dia-de-madre-alix-le-clerc/
END:VEVENT
END:VCALENDAR